BEGIN:VCALENDAR
METHOD:PUBLISH
VERSION:2.0
CALSCALE:GREGORIAN
PRODID:-//NONSGML WPForms//NONSGML Sugar Calendar Feeds v3.11.0//EN
X-WR-CALNAME:X Międzynarodowa Wystawa Drzew Bonsai
X-WR-CALDESC:Ogród Botaniczny w Powsinie
X-WR-TIMEZONE:Europe/Warsaw
BEGIN:VTIMEZONE
TZID:Europe/Warsaw
BEGIN:STANDARD
TZOFFSETFROM:+0200
TZOFFSETTO:+0100
DTSTART:20251026T010000
TZNAME:CET
END:STANDARD
BEGIN:DAYLIGHT
TZOFFSETFROM:+0100
TZOFFSETTO:+0200
DTSTART:20260329T010000
TZNAME:CEST
END:DAYLIGHT
END:VTIMEZONE
BEGIN:VTIMEZONE
TZID:Europe/Warsaw
BEGIN:STANDARD
TZOFFSETFROM:+0200
TZOFFSETTO:+0100
DTSTART:20251026T010000
TZNAME:CET
END:STANDARD
BEGIN:DAYLIGHT
TZOFFSETFROM:+0100
TZOFFSETTO:+0200
DTSTART:20260329T010000
TZNAME:CEST
END:DAYLIGHT
END:VTIMEZONE
BEGIN:VEVENT
SUMMARY:X Międzynarodowa Wystawa Drzew Bonsai
DESCRIPTION:
URL;VALUE=URI:https://ogrod.pan.pl/events/x-miedzynarodowa-wystawa-drzew
 -bonsai/
UID:urn:uuid:89c2c603-fb25-4885-b505-db8929256481
STATUS:CONFIRMED
ORGANIZER:
DTSTAMP:20260421T155334Z
DTSTART;TZID=Europe/Warsaw:20260426T090000
DTEND;TZID=Europe/Warsaw:20260426T170000
END:VEVENT
END:VCALENDAR