BEGIN:VCALENDAR
METHOD:PUBLISH
VERSION:2.0
CALSCALE:GREGORIAN
PRODID:-//NONSGML WPForms//NONSGML Sugar Calendar Feeds v3.11.0//EN
X-WR-CALNAME:Spotkanie z opiekunem kolekcji wiśni japońskich w Reiva S
 akura Garden.
X-WR-CALDESC:Ogród Botaniczny w Powsinie
X-WR-TIMEZONE:Europe/Warsaw
BEGIN:VTIMEZONE
TZID:Europe/Warsaw
BEGIN:STANDARD
TZOFFSETFROM:+0200
TZOFFSETTO:+0100
DTSTART:20251026T010000
TZNAME:CET
END:STANDARD
BEGIN:DAYLIGHT
TZOFFSETFROM:+0100
TZOFFSETTO:+0200
DTSTART:20260329T010000
TZNAME:CEST
END:DAYLIGHT
END:VTIMEZONE
BEGIN:VTIMEZONE
TZID:Europe/Warsaw
BEGIN:STANDARD
TZOFFSETFROM:+0200
TZOFFSETTO:+0100
DTSTART:20251026T010000
TZNAME:CET
END:STANDARD
BEGIN:DAYLIGHT
TZOFFSETFROM:+0100
TZOFFSETTO:+0200
DTSTART:20260329T010000
TZNAME:CEST
END:DAYLIGHT
END:VTIMEZONE
BEGIN:VEVENT
SUMMARY:Spotkanie z opiekunem kolekcji wiśni japońskich w Reiva Sakura
  Garden.
DESCRIPTION:Szanowni zwiedzający\, 18 i 19 kwietnia 2026 roku zapraszam
 y na wyjątkowe spotkanie z opiekunem kolekcji wiśni japońskich w Reiv
 a Sakura Garden. To niepowtarzalna okazja\, aby poznać fascynujący św
 iat sakur\, ich historię\, różnorodność oraz tajniki pielęgnacji. 
 Podczas spotkania opiekun kolekcji podzieli się swoją wiedzą i doświ
 adczeniem\, oprowadzi uczestników po ogrodzie oraz opowie o najciekawsz
 ych odmianach wiśni japońskich zgromadzonych w kolekcji. Serdecznie za
 praszamy wszystkich miłośników przyrody\, ogrodnictwa oraz&nbsp\;kult
 ury Japonii do&nbsp\;udziału w&nbsp\;tym inspirującym wydarzeniu.\n\nT
 ego weekendu obowiązuje bilet EVENTOWY.
URL;VALUE=URI:https://ogrod.pan.pl/en/events/spotkanie-z-opiekunem-kolek
 cji-wisni-japonskich-w-reiva-sakura-garden/
UID:urn:uuid:9e97379c-a63d-4a83-925f-134d10d4633a
STATUS:CONFIRMED
ORGANIZER:
DTSTAMP:20260420T105734Z
DTSTART;TZID=Europe/Warsaw:20260418T110000
DTEND;TZID=Europe/Warsaw:20260418T140000
END:VEVENT
END:VCALENDAR