BEGIN:VCALENDAR
METHOD:PUBLISH
VERSION:2.0
CALSCALE:GREGORIAN
PRODID:-//NONSGML WPForms//NONSGML Sugar Calendar Feeds v3.11.0//EN
X-WR-CALNAME:Spotkanie z opiekunem kolekcji wiśni japońskich w Reiva S
 akura Garden
X-WR-CALDESC:Ogród Botaniczny w Powsinie
X-WR-TIMEZONE:Europe/Warsaw
BEGIN:VTIMEZONE
TZID:Europe/Warsaw
BEGIN:STANDARD
TZOFFSETFROM:+0200
TZOFFSETTO:+0100
DTSTART:20251026T010000
TZNAME:CET
END:STANDARD
BEGIN:DAYLIGHT
TZOFFSETFROM:+0100
TZOFFSETTO:+0200
DTSTART:20260329T010000
TZNAME:CEST
END:DAYLIGHT
END:VTIMEZONE
BEGIN:VTIMEZONE
TZID:Europe/Warsaw
BEGIN:STANDARD
TZOFFSETFROM:+0200
TZOFFSETTO:+0100
DTSTART:20251026T010000
TZNAME:CET
END:STANDARD
BEGIN:DAYLIGHT
TZOFFSETFROM:+0100
TZOFFSETTO:+0200
DTSTART:20260329T010000
TZNAME:CEST
END:DAYLIGHT
END:VTIMEZONE
BEGIN:VEVENT
SUMMARY:Spotkanie z opiekunem kolekcji wiśni japońskich w Reiva Sakura
  Garden
DESCRIPTION:Szanowni zwiedzający\, 18 i 19 kwietnia 2026 roku zapraszam
 y na wyjątkowe spotkanie z opiekunem kolekcji wiśni japońskich w Reiv
 a Sakura Garden. To niepowtarzalna okazja\, aby poznać fascynujący św
 iat sakur\, ich historię\,różnorodność oraz tajniki pielęgnacji. P
 odczas spotkania opiekun kolekcji podzieli się swoją wiedzą i doświa
 dczeniem\, oprowadzi uczestników po ogrodzie oraz opowie o najciekawszy
 ch odmianach wiśni japońskich zgromadzonych w kolekcji. Serdecznie zap
 raszamy wszystkich miłośników przyrody\, ogrodnictwa oraz&nbsp\;kultu
 ry Japonii do&nbsp\;udziału w&nbsp\;tym inspirującym wydarzeniu.\n\nTe
 go weekendu obowiązuje bilet EVENTOWY.
URL;VALUE=URI:https://ogrod.pan.pl/en/events/spotkanie-z-opiekunem-kolek
 cji-wisni-japonskich-w-reiva-sakura-garden-2/
UID:urn:uuid:ef86d7f4-ab24-4a8f-91ad-2bc1f10df48e
STATUS:CONFIRMED
ORGANIZER:
DTSTAMP:20260420T105743Z
DTSTART;TZID=Europe/Warsaw:20260419T110000
DTEND;TZID=Europe/Warsaw:20260419T140000
END:VEVENT
END:VCALENDAR