BEGIN:VCALENDAR
METHOD:PUBLISH
VERSION:2.0
CALSCALE:GREGORIAN
PRODID:-//NONSGML WPForms//NONSGML Sugar Calendar Feeds v3.11.0//EN
X-WR-CALNAME:Spacer z przewodnikiem- Magnolie i Japońskie endemity i re
 likty
X-WR-CALDESC:Ogród Botaniczny w Powsinie
X-WR-TIMEZONE:Europe/Warsaw
BEGIN:VTIMEZONE
TZID:Europe/Warsaw
BEGIN:STANDARD
TZOFFSETFROM:+0200
TZOFFSETTO:+0100
DTSTART:20251026T010000
TZNAME:CET
END:STANDARD
BEGIN:DAYLIGHT
TZOFFSETFROM:+0100
TZOFFSETTO:+0200
DTSTART:20260329T010000
TZNAME:CEST
END:DAYLIGHT
END:VTIMEZONE
BEGIN:VTIMEZONE
TZID:Europe/Warsaw
BEGIN:STANDARD
TZOFFSETFROM:+0200
TZOFFSETTO:+0100
DTSTART:20251026T010000
TZNAME:CET
END:STANDARD
BEGIN:DAYLIGHT
TZOFFSETFROM:+0100
TZOFFSETTO:+0200
DTSTART:20260329T010000
TZNAME:CEST
END:DAYLIGHT
END:VTIMEZONE
BEGIN:VEVENT
SUMMARY:Spacer z przewodnikiem- Magnolie i Japońskie endemity i relikty
DESCRIPTION:Magnolie oraz japońskie endemity i relikty – spacer z prz
 ewodnikiem\n 18 kwietnia 2026 godz. 12:00 - 14.00\nZapraszamy na wiosenn
 y spacer po Ogrodzie Botanicznym Polskiej Akademii Nauk w Powsinie pośw
 ięcony magnoliom oraz wyjątkowym roślinom pochodzącym z Japonii. Pod
 czas spotkania będzie można poznać gatunki endemiczne i reliktowe\, i
 ch historię oraz ciekawostki związane z ich występowaniem.\nSpacer po
 prowadzi mgr inż. Agnieszka Kościelak\, która opowie o najciekawszych
  okazach rosnących w kolekcjach ogrodu.\n&nbsp\;Miejsce spotkania: prze
 d kawiarnią Botanica Cafe &amp\; Bistro&nbsp\;Liczba miejsc jest ograni
 czona\n&nbsp\;Zapisy do 17 kwietnia:agnieszka.koscielak@ob.pan.pl\nPodcz
 as tego weekendu obowiązuje bilet EVENTOWY
URL;VALUE=URI:https://ogrod.pan.pl/en/events/spacer-z-przewodnikiem-magn
 olie-i-japonskie-endemity-i-relikty/
UID:urn:uuid:d92a462f-6f11-458b-a547-a8a461b784be
STATUS:CONFIRMED
ORGANIZER:
DTSTAMP:20260420T024854Z
DTSTART;TZID=Europe/Warsaw:20260418T120000
DTEND;TZID=Europe/Warsaw:20260418T140000
END:VEVENT
END:VCALENDAR