BEGIN:VCALENDAR
METHOD:PUBLISH
VERSION:2.0
CALSCALE:GREGORIAN
PRODID:-//NONSGML WPForms//NONSGML Sugar Calendar Feeds v3.11.0//EN
X-WR-CALNAME:Magnolie – spacer z kolekcjonerem’
X-WR-CALDESC:Ogród Botaniczny w Powsinie
X-WR-TIMEZONE:Europe/Warsaw
BEGIN:VTIMEZONE
TZID:Europe/Warsaw
BEGIN:STANDARD
TZOFFSETFROM:+0200
TZOFFSETTO:+0100
DTSTART:20251026T010000
TZNAME:CET
END:STANDARD
BEGIN:DAYLIGHT
TZOFFSETFROM:+0100
TZOFFSETTO:+0200
DTSTART:20260329T010000
TZNAME:CEST
END:DAYLIGHT
END:VTIMEZONE
BEGIN:VTIMEZONE
TZID:Europe/Warsaw
BEGIN:STANDARD
TZOFFSETFROM:+0200
TZOFFSETTO:+0100
DTSTART:20251026T010000
TZNAME:CET
END:STANDARD
BEGIN:DAYLIGHT
TZOFFSETFROM:+0100
TZOFFSETTO:+0200
DTSTART:20260329T010000
TZNAME:CEST
END:DAYLIGHT
END:VTIMEZONE
BEGIN:VEVENT
SUMMARY:Magnolie – spacer z kolekcjonerem’
DESCRIPTION:Spacer po Arboretum z 80 gatunkami i odmianami magnolii.\nPo
 znamy azjatyckie magnolie oraz odmiany magnolia Soulange’a.\n&nbsp\;\n
 Spacer poprowadzi mgr inż. Agnieszka Kościelak\n&nbsp\;\nMiejsce spotk
 ania: przed kawiarnią Botanica Cafe &amp\; Bistro na terenie Ogrodu za 
 kasą biletową od strony ul. Prawdziwka 2.Udział w Spacerze z przewodn
 ikiem w ramach biletu wstępu lub rocznego karnetu do Ogrodu.\n&nbsp\;\n
 &nbsp\;Liczba miejsc jest ograniczona\n&nbsp\;\n&nbsp\;Zapisy do 25 kwie
 tnia:agnieszka.koscielak@ob.pan.pl\nProszę pamiętać\, że można kupi
 ć również bilet wstępu on-line:\nhttps://biletyob.pan.pl/
URL;VALUE=URI:https://ogrod.pan.pl/en/events/magnolie-spacer-z-kolekcjon
 erem/
UID:urn:uuid:eb6613ff-f0ac-4cd0-9c00-3148be86ed84
STATUS:CONFIRMED
ORGANIZER:
DTSTAMP:20260425T120811Z
DTSTART;TZID=Europe/Warsaw:20260426T120000
DTEND;TZID=Europe/Warsaw:20260426T140000
END:VEVENT
END:VCALENDAR