BEGIN:VCALENDAR
METHOD:PUBLISH
VERSION:2.0
CALSCALE:GREGORIAN
PRODID:-//NONSGML WPForms//NONSGML Sugar Calendar Feeds v3.11.0//EN
X-WR-CALNAME:Ewa Goral - Wewnętrzny ogród / wystawa malarstwa
X-WR-CALDESC:Ogród Botaniczny w Powsinie
X-WR-TIMEZONE:Europe/Warsaw
BEGIN:VTIMEZONE
TZID:Europe/Warsaw
BEGIN:STANDARD
TZOFFSETFROM:+0200
TZOFFSETTO:+0100
DTSTART:20251026T010000
TZNAME:CET
END:STANDARD
BEGIN:DAYLIGHT
TZOFFSETFROM:+0100
TZOFFSETTO:+0200
DTSTART:20260329T010000
TZNAME:CEST
END:DAYLIGHT
END:VTIMEZONE
BEGIN:VTIMEZONE
TZID:Europe/Warsaw
BEGIN:STANDARD
TZOFFSETFROM:+0200
TZOFFSETTO:+0100
DTSTART:20251026T010000
TZNAME:CET
END:STANDARD
BEGIN:DAYLIGHT
TZOFFSETFROM:+0100
TZOFFSETTO:+0200
DTSTART:20260329T010000
TZNAME:CEST
END:DAYLIGHT
END:VTIMEZONE
BEGIN:VEVENT
SUMMARY:Ewa Goral - Wewnętrzny ogród / wystawa malarstwa
DESCRIPTION:Od&nbsp\;12 kwietnia zapraszamy do&nbsp\;Fangorówki na&nbsp
 \;wystawę malarstwa Ewy Goral zatytułowaną „Wewnętrzny ogród”. 
 Wystawa będzie dostępna od&nbsp\;środy do&nbsp\;niedzieli w&nbsp\;god
 zinach 11.00-17.00\n\nEWA GORAL&nbsp\;– artystka wizualna\, zajmuje si
 ę głównie malarstwem i&nbsp\;grafiką. W&nbsp\;swojej twórczości cz
 erpie inspiracje z&nbsp\;natury\, traktując ją&nbsp\;jako obszar do&nb
 sp\;badań i&nbsp\;poszukiwań. Koncentruje się na&nbsp\;relacjach mię
 dzy ludźmi\, a&nbsp\;światem przyrody\, zgłębiając tematy cyklu\, e
 kologii i&nbsp\;duchowości. Przekłada doświadczenie zatopienia w&nbsp
 \;naturze\, dzikie krajobrazy i&nbsp\;organiczność na&nbsp\;język mal
 arski. Ma&nbsp\;na&nbsp\;koncie ponad 50 wystaw w&nbsp\;Polsce i&nbsp\;z
 a&nbsp\;granicą\, m.in.:Mazowieckie Centrum Sztuki współczesnej “El
 ektrownia” w&nbsp\;Radomiu\; Galeria BWA Krosno\; Unit24 Gallery\, Lon
 dyn\, UK\, Centrum Rzeźby Polskiej w&nbsp\;Orońsku\; Galeria BWA Ostro
 wiec\; BWA Galeria Sanocka\; Plant Consciousness\, Regent’s University
 \, Londyn\, UK\; Instytut Botaniki\, Polska Akademia Nauk\, Kraków\; Ga
 leria ArtAround Warszawa\; Galeria Artinfo\, Warszawa\; Espacio Gallery\
 , Londyn\, UK\; Urban Art SEZ\, Berlin\, DE\; Fundacja Dzielna\, Warszaw
 a.\n\nLaureatka konkursów\, m.in: Triennale Młodych w&nbsp\;Orońsku\,
  Zealous X&nbsp\;Londyn\, UK\, Jesienny Międzynarodowy Salon Sztuki\, G
 aleria BWA Ostrowiec\, Nowa Awangarda\, Galeria Szyb Wilsona\, Katowice.
  Mieszka i&nbsp\;pracuje w&nbsp\;Warszawie.\n\nWystawa „Wewnętrzny og
 ród” zaprasza do&nbsp\;spojrzenia na&nbsp\;&nbsp\;naturę w&nbsp\;spo
 sób bardziej uważny i&nbsp\;osobisty. W&nbsp\;obrazach &nbsp\;Ewy Gora
 l rośliny nie&nbsp\;są&nbsp\;wiernym zapisem tego\, co&nbsp\;widzimy w
 &nbsp\;ogrodzie. Stają się punktem wyjścia do&nbsp\;tworzenia własny
 ch\, malarskich światów —&nbsp\;pełnych intensywnych barw\, spląta
 nych kształtów i&nbsp\;organicznej energii.
URL;VALUE=URI:https://ogrod.pan.pl/en/events/ewa-goral-wystawa-malarstwa
 -wewnetrzny-ogrod/
UID:urn:uuid:38198cbf-a749-4cc4-bbdd-6349909fb463
STATUS:CONFIRMED
ORGANIZER:
DTSTAMP:20260420T024903Z
DTSTART;TZID=Europe/Warsaw:20260412T110000
DTEND;TZID=Europe/Warsaw:20260504T170000
END:VEVENT
END:VCALENDAR