BEGIN:VCALENDAR
METHOD:PUBLISH
VERSION:2.0
CALSCALE:GREGORIAN
PRODID:-//NONSGML WPForms//NONSGML Sugar Calendar Feeds v3.11.0//EN
X-WR-CALNAME:Rysunki Wojciecha Fangora - wystawa
X-WR-CALDESC:Ogród Botaniczny w Powsinie
X-WR-TIMEZONE:Europe/Warsaw
BEGIN:VTIMEZONE
TZID:Europe/Warsaw
BEGIN:DAYLIGHT
TZOFFSETFROM:+0100
TZOFFSETTO:+0200
DTSTART:20250330T010000
TZNAME:CEST
END:DAYLIGHT
END:VTIMEZONE
BEGIN:VTIMEZONE
TZID:Europe/Warsaw
BEGIN:DAYLIGHT
TZOFFSETFROM:+0100
TZOFFSETTO:+0200
DTSTART:20250330T010000
TZNAME:CEST
END:DAYLIGHT
END:VTIMEZONE
BEGIN:VEVENT
SUMMARY:Rysunki Wojciecha Fangora - wystawa
DESCRIPTION:Informujemy\, że wystawa rysunków Wojciecha Fangora będzi
 e nieczynna 25 i 26 lipca - a nie tak\, jak pierwotnie planowano 24 i 25
  lipca. Przepraszamy!\n\nRysunki Wojciecha Fangora - wystawa&nbsp\; w ga
 lerii Fangorówka.\n\n 	czynna od środy do niedzieli w godz. 11:00-17:0
 0\n 	kuratorka wystawy: Mira Walczykowska\n\nW dniach 6 lipca - 3 sierpn
 ia zapraszamy Państwa do willi Janówek na wystawę oryginalnych\, nigd
 y wcześniej nie prezentowanych rysunków Wojciecha Fangora.\nWojciech F
 angor (1922-2015) jeden z ostatnich wielkich mistrzów XX wieku. Zadebiu
 tował po II wojnie światowej wystawą kubistycznych pejzaży i portret
 ów. W okresie socrealizmu popularność zdobył\, malując kultowe dzie
 ła\, takie jak Postaci czy Matka Koreanka. Był jednym z założycieli 
 Polskiej Szkoły Plakatu. Jednak najbardziej znanymi dziełami Fangora s
 ą malowane bezkrawędziowo koła i fale zaliczane do sztuki op-artu. W 
 1970 roku artysta zaprezentował obrazy z tego cyklu na indywidualnej wy
 stawie w Muzeum Guggenheima w Nowym Jorku. Wojciech Fangor był także a
 utorem wielu form przestrzennych. Jego eksperymentowanie ze sztuką był
 o prekursorskie nie tylko w Polsce\, ale i za granicą.\n\nWśród prac 
 na papierze możemy wyróżnić jego świetne plakaty z lat pięćdziesi
 ątych oraz rysunki\, które od początku kariery artystycznej towarzysz
 yły artyście jako osobna forma wypowiedzi\, notatka czy zapis koncepcj
 i projektów graficznych i architektonicznych.\n\nPrzygotowywana przez K
 olonię Artystyczną wystawa jest próbą zestawienia klasycznego rysunk
 u z rysunkiem modernistycznym często nawiązującym do kubizmu\, surrea
 lizmu\, czy wręcz prymitywizmu. Na wystawę w Fangorówce wybrałam rys
 unki w różnej stylistyce – począwszy od aktu\, martwej natury i pej
 zażu\, po abstrakcyjne formy geometryczne.\n\nZestawienie tych prac z k
 limatem samej galerii może stać się ciekawym zdarzeniem artystycznym.
  Na atmosferę miejsca silnie oddziałuje wczesne dzieło artysty – pl
 afon o tematyce mitologicznej\, namalowany w stylistyce sielankowo-rokok
 owej.\n\n\n\n&nbsp\;
URL;VALUE=URI:https://ogrod.pan.pl/en/events/rysunki-wojciecha-fangora-w
 ystawa/
UID:urn:uuid:c4ec61fc-6478-4a07-8f18-e5c1c6bfbdcc
STATUS:CONFIRMED
ORGANIZER:
DTSTAMP:20260420T050939Z
DTSTART;TZID=Europe/Warsaw:20250706T110000
DTEND;TZID=Europe/Warsaw:20250804T200000
END:VEVENT
END:VCALENDAR